BEGIN:VCALENDAR
VERSION:2.0
PRODID:-//MO Country - ECPv6.15.20//NONSGML v1.0//EN
CALSCALE:GREGORIAN
METHOD:PUBLISH
X-ORIGINAL-URL:https://mo-country.com
X-WR-CALDESC:Events for MO Country
REFRESH-INTERVAL;VALUE=DURATION:PT1H
X-Robots-Tag:noindex
X-PUBLISHED-TTL:PT1H
BEGIN:VTIMEZONE
TZID:UTC
BEGIN:STANDARD
TZOFFSETFROM:+0000
TZOFFSETTO:+0000
TZNAME:UTC
DTSTART:20220101T000000
END:STANDARD
END:VTIMEZONE
BEGIN:VEVENT
DTSTART;TZID=UTC:20240309T193000
DTEND;TZID=UTC:20240309T203000
DTSTAMP:20260421T082016
CREATED:20231129T232040Z
LAST-MODIFIED:20231129T232040Z
UID:609-1710012600-1710016200@mo-country.com
SUMMARY:Friday Night Line Dance Lessons
DESCRIPTION:Learn how to line dance every Friday and Saturday night from 7:30 to 8:30PM!The lessons are free!
URL:https://mo-country.com/event/friday-night-line-dance-lessons-16/
LOCATION:MO Country\, 401 South Outer Belt Road\, Grain Valley\, MO\, 64029\, United States
ATTACH;FMTTYPE=image/jpeg:https://mo-country.com/wp-content/uploads/2023/11/335281625_1223812648233002_4413300286445507321_n-1024x536-UUuiZR.tmp_.jpg
ORGANIZER;CN="MO Country":MAILTO:info@mo-country.com
END:VEVENT
BEGIN:VEVENT
DTSTART;TZID=UTC:20240308T193000
DTEND;TZID=UTC:20240308T203000
DTSTAMP:20260421T082016
CREATED:20231129T232039Z
LAST-MODIFIED:20231129T232039Z
UID:608-1709926200-1709929800@mo-country.com
SUMMARY:Saturday Night Line Dance Lessons
DESCRIPTION:Learn how to line dance every Friday and Saturday night from 7:30 to 8:30PM!The lessons are free!
URL:https://mo-country.com/event/saturday-night-line-dance-lessons-14/
LOCATION:MO Country\, 401 South Outer Belt Road\, Grain Valley\, MO\, 64029\, United States
ATTACH;FMTTYPE=image/jpeg:https://mo-country.com/wp-content/uploads/2023/11/335281625_1223812648233002_4413300286445507321_n-1024x536-UUuiZR.tmp_.jpg
ORGANIZER;CN="MO Country":MAILTO:info@mo-country.com
END:VEVENT
BEGIN:VEVENT
DTSTART;TZID=UTC:20240302T193000
DTEND;TZID=UTC:20240302T203000
DTSTAMP:20260421T082016
CREATED:20231129T232037Z
LAST-MODIFIED:20231129T232037Z
UID:607-1709407800-1709411400@mo-country.com
SUMMARY:Friday Night Line Dance Lessons
DESCRIPTION:Learn how to line dance every Friday and Saturday night from 7:30 to 8:30PM!The lessons are free!
URL:https://mo-country.com/event/friday-night-line-dance-lessons-15/
LOCATION:MO Country\, 401 South Outer Belt Road\, Grain Valley\, MO\, 64029\, United States
ATTACH;FMTTYPE=image/jpeg:https://mo-country.com/wp-content/uploads/2023/11/335281625_1223812648233002_4413300286445507321_n-1024x536-UUuiZR.tmp_.jpg
ORGANIZER;CN="MO Country":MAILTO:info@mo-country.com
END:VEVENT
BEGIN:VEVENT
DTSTART;TZID=UTC:20240301T193000
DTEND;TZID=UTC:20240301T203000
DTSTAMP:20260421T082016
CREATED:20231129T232036Z
LAST-MODIFIED:20231129T232036Z
UID:606-1709321400-1709325000@mo-country.com
SUMMARY:Saturday Night Line Dance Lessons
DESCRIPTION:Learn how to line dance every Friday and Saturday night from 7:30 to 8:30PM!The lessons are free!
URL:https://mo-country.com/event/saturday-night-line-dance-lessons-13/
LOCATION:MO Country\, 401 South Outer Belt Road\, Grain Valley\, MO\, 64029\, United States
ATTACH;FMTTYPE=image/jpeg:https://mo-country.com/wp-content/uploads/2023/11/335281625_1223812648233002_4413300286445507321_n-1024x536-UUuiZR.tmp_.jpg
ORGANIZER;CN="MO Country":MAILTO:info@mo-country.com
END:VEVENT
BEGIN:VEVENT
DTSTART;TZID=UTC:20240224T193000
DTEND;TZID=UTC:20240224T203000
DTSTAMP:20260421T082016
CREATED:20231129T232035Z
LAST-MODIFIED:20231129T232035Z
UID:605-1708803000-1708806600@mo-country.com
SUMMARY:Friday Night Line Dance Lessons
DESCRIPTION:Learn how to line dance every Friday and Saturday night from 7:30 to 8:30PM!The lessons are free!
URL:https://mo-country.com/event/friday-night-line-dance-lessons-14/
LOCATION:MO Country\, 401 South Outer Belt Road\, Grain Valley\, MO\, 64029\, United States
ATTACH;FMTTYPE=image/jpeg:https://mo-country.com/wp-content/uploads/2023/11/335281625_1223812648233002_4413300286445507321_n-1024x536-UUuiZR.tmp_.jpg
ORGANIZER;CN="MO Country":MAILTO:info@mo-country.com
END:VEVENT
BEGIN:VEVENT
DTSTART;TZID=UTC:20240223T193000
DTEND;TZID=UTC:20240223T203000
DTSTAMP:20260421T082016
CREATED:20231129T231839Z
LAST-MODIFIED:20231129T231839Z
UID:604-1708716600-1708720200@mo-country.com
SUMMARY:Friday Night Line Dance Lessons
DESCRIPTION:Learn how to line dance every Friday and Saturday night from 7:30 to 8:30PM!The lessons are free!
URL:https://mo-country.com/event/friday-night-line-dance-lessons-13/
LOCATION:MO Country\, 401 South Outer Belt Road\, Grain Valley\, MO\, 64029\, United States
ATTACH;FMTTYPE=image/jpeg:https://mo-country.com/wp-content/uploads/2023/11/335281625_1223812648233002_4413300286445507321_n-1024x536-UUuiZR.tmp_.jpg
ORGANIZER;CN="MO Country":MAILTO:info@mo-country.com
END:VEVENT
BEGIN:VEVENT
DTSTART;TZID=UTC:20240217T193000
DTEND;TZID=UTC:20240217T203000
DTSTAMP:20260421T082016
CREATED:20231129T231838Z
LAST-MODIFIED:20231129T231838Z
UID:603-1708198200-1708201800@mo-country.com
SUMMARY:Saturday Night Line Dance Lessons
DESCRIPTION:Learn how to line dance every Friday and Saturday night from 7:30 to 8:30PM!The lessons are free!
URL:https://mo-country.com/event/saturday-night-line-dance-lessons-12/
LOCATION:MO Country\, 401 South Outer Belt Road\, Grain Valley\, MO\, 64029\, United States
ATTACH;FMTTYPE=image/jpeg:https://mo-country.com/wp-content/uploads/2023/11/335281625_1223812648233002_4413300286445507321_n-1024x536-UUuiZR.tmp_.jpg
ORGANIZER;CN="MO Country":MAILTO:info@mo-country.com
END:VEVENT
BEGIN:VEVENT
DTSTART;TZID=UTC:20240216T193000
DTEND;TZID=UTC:20240216T203000
DTSTAMP:20260421T082016
CREATED:20231129T231837Z
LAST-MODIFIED:20231129T231837Z
UID:602-1708111800-1708115400@mo-country.com
SUMMARY:Friday Night Line Dance Lessons
DESCRIPTION:Learn how to line dance every Friday and Saturday night from 7:30 to 8:30PM!The lessons are free!
URL:https://mo-country.com/event/friday-night-line-dance-lessons-12/
LOCATION:MO Country\, 401 South Outer Belt Road\, Grain Valley\, MO\, 64029\, United States
ATTACH;FMTTYPE=image/jpeg:https://mo-country.com/wp-content/uploads/2023/11/335281625_1223812648233002_4413300286445507321_n-1024x536-UUuiZR.tmp_.jpg
ORGANIZER;CN="MO Country":MAILTO:info@mo-country.com
END:VEVENT
BEGIN:VEVENT
DTSTART;TZID=UTC:20240210T193000
DTEND;TZID=UTC:20240210T203000
DTSTAMP:20260421T082016
CREATED:20231129T231835Z
LAST-MODIFIED:20231129T231835Z
UID:601-1707593400-1707597000@mo-country.com
SUMMARY:Saturday Night Line Dance Lessons
DESCRIPTION:Learn how to line dance every Friday and Saturday night from 7:30 to 8:30PM!The lessons are free!
URL:https://mo-country.com/event/saturday-night-line-dance-lessons-11/
LOCATION:MO Country\, 401 South Outer Belt Road\, Grain Valley\, MO\, 64029\, United States
ATTACH;FMTTYPE=image/jpeg:https://mo-country.com/wp-content/uploads/2023/11/335281625_1223812648233002_4413300286445507321_n-1024x536-UUuiZR.tmp_.jpg
ORGANIZER;CN="MO Country":MAILTO:info@mo-country.com
END:VEVENT
BEGIN:VEVENT
DTSTART;TZID=UTC:20240209T193000
DTEND;TZID=UTC:20240209T203000
DTSTAMP:20260421T082016
CREATED:20231129T231834Z
LAST-MODIFIED:20231129T231834Z
UID:600-1707507000-1707510600@mo-country.com
SUMMARY:Friday Night Line Dance Lessons
DESCRIPTION:Learn how to line dance every Friday and Saturday night from 7:30 to 8:30PM!The lessons are free!
URL:https://mo-country.com/event/friday-night-line-dance-lessons-11/
LOCATION:MO Country\, 401 South Outer Belt Road\, Grain Valley\, MO\, 64029\, United States
ATTACH;FMTTYPE=image/jpeg:https://mo-country.com/wp-content/uploads/2023/11/335281625_1223812648233002_4413300286445507321_n-1024x536-UUuiZR.tmp_.jpg
ORGANIZER;CN="MO Country":MAILTO:info@mo-country.com
END:VEVENT
BEGIN:VEVENT
DTSTART;TZID=UTC:20240203T193000
DTEND;TZID=UTC:20240203T203000
DTSTAMP:20260421T082016
CREATED:20231129T231638Z
LAST-MODIFIED:20231129T231638Z
UID:599-1706988600-1706992200@mo-country.com
SUMMARY:Saturday Night Line Dance Lessons
DESCRIPTION:Learn how to line dance every Friday and Saturday night from 7:30 to 8:30PM!The lessons are free!
URL:https://mo-country.com/event/saturday-night-line-dance-lessons-10/
LOCATION:MO Country\, 401 South Outer Belt Road\, Grain Valley\, MO\, 64029\, United States
ATTACH;FMTTYPE=image/jpeg:https://mo-country.com/wp-content/uploads/2023/11/335281625_1223812648233002_4413300286445507321_n-1024x536-UUuiZR.tmp_.jpg
ORGANIZER;CN="MO Country":MAILTO:info@mo-country.com
END:VEVENT
BEGIN:VEVENT
DTSTART;TZID=UTC:20240202T193000
DTEND;TZID=UTC:20240202T203000
DTSTAMP:20260421T082016
CREATED:20231129T231637Z
LAST-MODIFIED:20231129T231637Z
UID:598-1706902200-1706905800@mo-country.com
SUMMARY:Friday Night Line Dance Lessons
DESCRIPTION:Learn how to line dance every Friday and Saturday night from 7:30 to 8:30PM!The lessons are free!
URL:https://mo-country.com/event/friday-night-line-dance-lessons-10/
LOCATION:MO Country\, 401 South Outer Belt Road\, Grain Valley\, MO\, 64029\, United States
ATTACH;FMTTYPE=image/jpeg:https://mo-country.com/wp-content/uploads/2023/11/335281625_1223812648233002_4413300286445507321_n-1024x536-UUuiZR.tmp_.jpg
ORGANIZER;CN="MO Country":MAILTO:info@mo-country.com
END:VEVENT
BEGIN:VEVENT
DTSTART;TZID=UTC:20240127T193000
DTEND;TZID=UTC:20240127T203000
DTSTAMP:20260421T082016
CREATED:20231129T231636Z
LAST-MODIFIED:20231129T231636Z
UID:597-1706383800-1706387400@mo-country.com
SUMMARY:Saturday Night Line Dance Lessons
DESCRIPTION:Learn how to line dance every Friday and Saturday night from 7:30 to 8:30PM!The lessons are free!
URL:https://mo-country.com/event/saturday-night-line-dance-lessons-9/
LOCATION:MO Country\, 401 South Outer Belt Road\, Grain Valley\, MO\, 64029\, United States
ATTACH;FMTTYPE=image/jpeg:https://mo-country.com/wp-content/uploads/2023/11/335281625_1223812648233002_4413300286445507321_n-1024x536-UUuiZR.tmp_.jpg
ORGANIZER;CN="MO Country":MAILTO:info@mo-country.com
END:VEVENT
BEGIN:VEVENT
DTSTART;TZID=UTC:20240126T193000
DTEND;TZID=UTC:20240126T203000
DTSTAMP:20260421T082016
CREATED:20231129T231634Z
LAST-MODIFIED:20231129T231634Z
UID:596-1706297400-1706301000@mo-country.com
SUMMARY:Friday Night Line Dance Lessons
DESCRIPTION:Learn how to line dance every Friday and Saturday night from 7:30 to 8:30PM!The lessons are free!
URL:https://mo-country.com/event/friday-night-line-dance-lessons-9/
LOCATION:MO Country\, 401 South Outer Belt Road\, Grain Valley\, MO\, 64029\, United States
ATTACH;FMTTYPE=image/jpeg:https://mo-country.com/wp-content/uploads/2023/11/335281625_1223812648233002_4413300286445507321_n-1024x536-UUuiZR.tmp_.jpg
ORGANIZER;CN="MO Country":MAILTO:info@mo-country.com
END:VEVENT
BEGIN:VEVENT
DTSTART;TZID=UTC:20240120T193000
DTEND;TZID=UTC:20240120T203000
DTSTAMP:20260421T082016
CREATED:20231129T231633Z
LAST-MODIFIED:20231129T231633Z
UID:595-1705779000-1705782600@mo-country.com
SUMMARY:Saturday Night Line Dance Lessons
DESCRIPTION:Learn how to line dance every Friday and Saturday night from 7:30 to 8:30PM!The lessons are free!
URL:https://mo-country.com/event/saturday-night-line-dance-lessons-8/
LOCATION:MO Country\, 401 South Outer Belt Road\, Grain Valley\, MO\, 64029\, United States
ATTACH;FMTTYPE=image/jpeg:https://mo-country.com/wp-content/uploads/2023/11/335281625_1223812648233002_4413300286445507321_n-1024x536-UUuiZR.tmp_.jpg
ORGANIZER;CN="MO Country":MAILTO:info@mo-country.com
END:VEVENT
BEGIN:VEVENT
DTSTART;TZID=UTC:20240119T193000
DTEND;TZID=UTC:20240119T203000
DTSTAMP:20260421T082016
CREATED:20231129T231438Z
LAST-MODIFIED:20231129T231438Z
UID:594-1705692600-1705696200@mo-country.com
SUMMARY:Friday Night Line Dance Lessons
DESCRIPTION:Learn how to line dance every Friday and Saturday night from 7:30 to 8:30PM!The lessons are free!
URL:https://mo-country.com/event/friday-night-line-dance-lessons-8/
LOCATION:MO Country\, 401 South Outer Belt Road\, Grain Valley\, MO\, 64029\, United States
ATTACH;FMTTYPE=image/jpeg:https://mo-country.com/wp-content/uploads/2023/11/335281625_1223812648233002_4413300286445507321_n-1024x536-UUuiZR.tmp_.jpg
ORGANIZER;CN="MO Country":MAILTO:info@mo-country.com
END:VEVENT
BEGIN:VEVENT
DTSTART;TZID=UTC:20240113T193000
DTEND;TZID=UTC:20240113T203000
DTSTAMP:20260421T082016
CREATED:20231129T231436Z
LAST-MODIFIED:20231129T231436Z
UID:593-1705174200-1705177800@mo-country.com
SUMMARY:Saturday Night Line Dance Lessons
DESCRIPTION:Learn how to line dance every Friday and Saturday night from 7:30 to 8:30PM!The lessons are free!
URL:https://mo-country.com/event/saturday-night-line-dance-lessons-7/
LOCATION:MO Country\, 401 South Outer Belt Road\, Grain Valley\, MO\, 64029\, United States
ATTACH;FMTTYPE=image/jpeg:https://mo-country.com/wp-content/uploads/2023/11/335281625_1223812648233002_4413300286445507321_n-1024x536-UUuiZR.tmp_.jpg
ORGANIZER;CN="MO Country":MAILTO:info@mo-country.com
END:VEVENT
BEGIN:VEVENT
DTSTART;TZID=UTC:20240112T193000
DTEND;TZID=UTC:20240112T203000
DTSTAMP:20260421T082016
CREATED:20231129T231435Z
LAST-MODIFIED:20231129T231435Z
UID:592-1705087800-1705091400@mo-country.com
SUMMARY:Friday Night Line Dance Lessons
DESCRIPTION:Learn how to line dance every Friday and Saturday night from 7:30 to 8:30PM!The lessons are free!
URL:https://mo-country.com/event/friday-night-line-dance-lessons-7/
LOCATION:MO Country\, 401 South Outer Belt Road\, Grain Valley\, MO\, 64029\, United States
ATTACH;FMTTYPE=image/jpeg:https://mo-country.com/wp-content/uploads/2023/11/335281625_1223812648233002_4413300286445507321_n-1024x536-UUuiZR.tmp_.jpg
ORGANIZER;CN="MO Country":MAILTO:info@mo-country.com
END:VEVENT
BEGIN:VEVENT
DTSTART;TZID=UTC:20240106T193000
DTEND;TZID=UTC:20240106T203000
DTSTAMP:20260421T082016
CREATED:20231129T231434Z
LAST-MODIFIED:20231129T231434Z
UID:591-1704569400-1704573000@mo-country.com
SUMMARY:Saturday Night Line Dance Lessons
DESCRIPTION:Learn how to line dance every Friday and Saturday night from 7:30 to 8:30PM!The lessons are free!
URL:https://mo-country.com/event/saturday-night-line-dance-lessons-6/
LOCATION:MO Country\, 401 South Outer Belt Road\, Grain Valley\, MO\, 64029\, United States
ATTACH;FMTTYPE=image/jpeg:https://mo-country.com/wp-content/uploads/2023/11/335281625_1223812648233002_4413300286445507321_n-1024x536-UUuiZR.tmp_.jpg
ORGANIZER;CN="MO Country":MAILTO:info@mo-country.com
END:VEVENT
BEGIN:VEVENT
DTSTART;TZID=UTC:20240105T193000
DTEND;TZID=UTC:20240105T203000
DTSTAMP:20260421T082016
CREATED:20231129T231432Z
LAST-MODIFIED:20231129T231432Z
UID:590-1704483000-1704486600@mo-country.com
SUMMARY:Friday Night Line Dance Lessons
DESCRIPTION:Learn how to line dance every Friday and Saturday night from 7:30 to 8:30PM!The lessons are free!
URL:https://mo-country.com/event/friday-night-line-dance-lessons-6/
LOCATION:MO Country\, 401 South Outer Belt Road\, Grain Valley\, MO\, 64029\, United States
ATTACH;FMTTYPE=image/jpeg:https://mo-country.com/wp-content/uploads/2023/11/335281625_1223812648233002_4413300286445507321_n-1024x536-UUuiZR.tmp_.jpg
ORGANIZER;CN="MO Country":MAILTO:info@mo-country.com
END:VEVENT
BEGIN:VEVENT
DTSTART;TZID=UTC:20231230T193000
DTEND;TZID=UTC:20231230T203000
DTSTAMP:20260421T082016
CREATED:20231129T231235Z
LAST-MODIFIED:20231129T231235Z
UID:589-1703964600-1703968200@mo-country.com
SUMMARY:Saturday Night Line Dance Lessons
DESCRIPTION:Learn how to line dance every Friday and Saturday night from 7:30 to 8:30PM!The lessons are free!
URL:https://mo-country.com/event/saturday-night-line-dance-lessons-5/
LOCATION:MO Country\, 401 South Outer Belt Road\, Grain Valley\, MO\, 64029\, United States
ATTACH;FMTTYPE=image/jpeg:https://mo-country.com/wp-content/uploads/2023/11/335281625_1223812648233002_4413300286445507321_n-1024x536-UUuiZR.tmp_.jpg
ORGANIZER;CN="MO Country":MAILTO:info@mo-country.com
END:VEVENT
BEGIN:VEVENT
DTSTART;TZID=UTC:20231229T193000
DTEND;TZID=UTC:20231229T203000
DTSTAMP:20260421T082016
CREATED:20231129T231234Z
LAST-MODIFIED:20231129T231234Z
UID:588-1703878200-1703881800@mo-country.com
SUMMARY:Friday Night Line Dance Lessons
DESCRIPTION:Learn how to line dance every Friday and Saturday night from 7:30 to 8:30PM!The lessons are free!
URL:https://mo-country.com/event/friday-night-line-dance-lessons-5/
LOCATION:MO Country\, 401 South Outer Belt Road\, Grain Valley\, MO\, 64029\, United States
ATTACH;FMTTYPE=image/jpeg:https://mo-country.com/wp-content/uploads/2023/11/335281625_1223812648233002_4413300286445507321_n-1024x536-UUuiZR.tmp_.jpg
ORGANIZER;CN="MO Country":MAILTO:info@mo-country.com
END:VEVENT
BEGIN:VEVENT
DTSTART;TZID=UTC:20231223T193000
DTEND;TZID=UTC:20231223T203000
DTSTAMP:20260421T082016
CREATED:20231129T231233Z
LAST-MODIFIED:20231129T231233Z
UID:587-1703359800-1703363400@mo-country.com
SUMMARY:Saturday Night Line Dance Lessons
DESCRIPTION:Learn how to line dance every Friday and Saturday night from 7:30 to 8:30PM!The lessons are free!
URL:https://mo-country.com/event/saturday-night-line-dance-lessons-4/
LOCATION:MO Country\, 401 South Outer Belt Road\, Grain Valley\, MO\, 64029\, United States
ATTACH;FMTTYPE=image/jpeg:https://mo-country.com/wp-content/uploads/2023/11/335281625_1223812648233002_4413300286445507321_n-1024x536-UUuiZR.tmp_.jpg
ORGANIZER;CN="MO Country":MAILTO:info@mo-country.com
END:VEVENT
BEGIN:VEVENT
DTSTART;TZID=UTC:20231222T193000
DTEND;TZID=UTC:20231222T203000
DTSTAMP:20260421T082016
CREATED:20231129T231231Z
LAST-MODIFIED:20231129T231231Z
UID:586-1703273400-1703277000@mo-country.com
SUMMARY:Friday Night Line Dance Lessons
DESCRIPTION:Learn how to line dance every Friday and Saturday night from 7:30 to 8:30PM!The lessons are free!
URL:https://mo-country.com/event/friday-night-line-dance-lessons-4/
LOCATION:MO Country\, 401 South Outer Belt Road\, Grain Valley\, MO\, 64029\, United States
ATTACH;FMTTYPE=image/jpeg:https://mo-country.com/wp-content/uploads/2023/11/335281625_1223812648233002_4413300286445507321_n-1024x536-UUuiZR.tmp_.jpg
ORGANIZER;CN="MO Country":MAILTO:info@mo-country.com
END:VEVENT
BEGIN:VEVENT
DTSTART;TZID=UTC:20231216T193000
DTEND;TZID=UTC:20231216T203000
DTSTAMP:20260421T082016
CREATED:20231129T231230Z
LAST-MODIFIED:20231129T231230Z
UID:585-1702755000-1702758600@mo-country.com
SUMMARY:Saturday Night Line Dance Lessons
DESCRIPTION:Learn how to line dance every Friday and Saturday night from 7:30 to 8:30PM!The lessons are free!
URL:https://mo-country.com/event/saturday-night-line-dance-lessons-3/
LOCATION:MO Country\, 401 South Outer Belt Road\, Grain Valley\, MO\, 64029\, United States
ATTACH;FMTTYPE=image/jpeg:https://mo-country.com/wp-content/uploads/2023/11/335281625_1223812648233002_4413300286445507321_n-1024x536-UUuiZR.tmp_.jpg
ORGANIZER;CN="MO Country":MAILTO:info@mo-country.com
END:VEVENT
BEGIN:VEVENT
DTSTART;TZID=UTC:20231215T193000
DTEND;TZID=UTC:20231215T203000
DTSTAMP:20260421T082016
CREATED:20231129T231226Z
LAST-MODIFIED:20231129T231226Z
UID:584-1702668600-1702672200@mo-country.com
SUMMARY:Friday Night Line Dance Lessons
DESCRIPTION:Learn how to line dance every Friday and Saturday night from 7:30 to 8:30PM!The lessons are free!
URL:https://mo-country.com/event/friday-night-line-dance-lessons-3/
LOCATION:MO Country\, 401 South Outer Belt Road\, Grain Valley\, MO\, 64029\, United States
ATTACH;FMTTYPE=image/jpeg:https://mo-country.com/wp-content/uploads/2023/11/335281625_1223812648233002_4413300286445507321_n-1024x536-UUuiZR.tmp_.jpg
ORGANIZER;CN="MO Country":MAILTO:info@mo-country.com
END:VEVENT
BEGIN:VEVENT
DTSTART;TZID=UTC:20231209T193000
DTEND;TZID=UTC:20231209T203000
DTSTAMP:20260421T082016
CREATED:20231129T231225Z
LAST-MODIFIED:20231129T231225Z
UID:583-1702150200-1702153800@mo-country.com
SUMMARY:Saturday Night Line Dance Lessons
DESCRIPTION:Learn how to line dance every Friday and Saturday night from 7:30 to 8:30PM!The lessons are free!
URL:https://mo-country.com/event/saturday-night-line-dance-lessons-2/
LOCATION:MO Country\, 401 South Outer Belt Road\, Grain Valley\, MO\, 64029\, United States
ATTACH;FMTTYPE=image/jpeg:https://mo-country.com/wp-content/uploads/2023/11/335281625_1223812648233002_4413300286445507321_n-1024x536-UUuiZR.tmp_.jpg
ORGANIZER;CN="MO Country":MAILTO:info@mo-country.com
END:VEVENT
BEGIN:VEVENT
DTSTART;TZID=UTC:20231208T193000
DTEND;TZID=UTC:20231208T203000
DTSTAMP:20260421T082016
CREATED:20231129T231224Z
LAST-MODIFIED:20231129T231224Z
UID:582-1702063800-1702067400@mo-country.com
SUMMARY:Friday Night Line Dance Lessons
DESCRIPTION:Learn how to line dance every Friday and Saturday night from 7:30 to 8:30PM!The lessons are free!
URL:https://mo-country.com/event/friday-night-line-dance-lessons-2/
LOCATION:MO Country\, 401 South Outer Belt Road\, Grain Valley\, MO\, 64029\, United States
ATTACH;FMTTYPE=image/jpeg:https://mo-country.com/wp-content/uploads/2023/11/335281625_1223812648233002_4413300286445507321_n-1024x536-UUuiZR.tmp_.jpg
ORGANIZER;CN="MO Country":MAILTO:info@mo-country.com
END:VEVENT
BEGIN:VEVENT
DTSTART;TZID=UTC:20231202T193000
DTEND;TZID=UTC:20231202T203000
DTSTAMP:20260421T082016
CREATED:20231129T230630Z
LAST-MODIFIED:20231129T231222Z
UID:575-1701545400-1701549000@mo-country.com
SUMMARY:Saturday Night Line Dance Lessons
DESCRIPTION:Learn how to line dance every Friday and Saturday night from 7:30 to 8:30PM!The lessons are free!
URL:https://mo-country.com/event/saturday-night-line-dance-lessons/
LOCATION:MO Country\, 401 South Outer Belt Road\, Grain Valley\, MO\, 64029\, United States
ATTACH;FMTTYPE=image/jpeg:https://mo-country.com/wp-content/uploads/2023/11/335281625_1223812648233002_4413300286445507321_n-1024x536-UUuiZR.tmp_.jpg
ORGANIZER;CN="MO Country":MAILTO:info@mo-country.com
END:VEVENT
BEGIN:VEVENT
DTSTART;TZID=UTC:20231201T193000
DTEND;TZID=UTC:20231201T203000
DTSTAMP:20260421T082016
CREATED:20231129T230629Z
LAST-MODIFIED:20231129T231221Z
UID:574-1701459000-1701462600@mo-country.com
SUMMARY:Friday Night Line Dance Lessons
DESCRIPTION:Learn how to line dance every Friday and Saturday night from 7:30 to 8:30PM!The lessons are free!
URL:https://mo-country.com/event/friday-night-line-dance-lessons/
LOCATION:MO Country\, 401 South Outer Belt Road\, Grain Valley\, MO\, 64029\, United States
ATTACH;FMTTYPE=image/jpeg:https://mo-country.com/wp-content/uploads/2023/11/335281625_1223812648233002_4413300286445507321_n-1024x536-UUuiZR.tmp_.jpg
ORGANIZER;CN="MO Country":MAILTO:info@mo-country.com
END:VEVENT
END:VCALENDAR